BEGIN:VCALENDAR
VERSION:2.0
PRODID:DPCALENDAR
CALSCALE:GREGORIAN
X-WR-TIMEZONE:UTC
BEGIN:VEVENT
DTSTART;VALUE=DATE:20240803
DTEND;VALUE=DATE:20240804
UID:3f96433b7782729f6c933cb28644ff09
SUMMARY:"Tenkes éjszakai" teljesítménytúra
DTSTAMP:20240106T212735Z
DESCRIPTION:Tenkes éjszakai teljesítménytúra (20, 10, 5 km)Rendező: Tenkes Természetbarát Egyesület, Dráva Természetbarát Sport Egyesület\NRajt: Siklós-Máriagyűd, Közösségi Ház, 19.00-21.00 (20, 10 km), 19.00-22.00 (5 km).Cél ugyanott.Nevezési díjak: 1200, 1000 ill. 800 Ft/fő)Információ: Balog Árpád tel.: (30) 316-1891; e-mail: batenkes@freemail.hu\NRészletek
X-ALT-DESC;FMTTYPE=text/html:<p><span style="color: #003300;"><strong>Tenkes éjszakai teljesítménytúra (20, 10, 5 km)</strong></span><br /><strong>Rendező:</strong> Tenkes Természetbarát Egyesület, Dráva Természetbarát Sport Egyesület</p><p><strong>Rajt:</strong> Siklós-Máriagyűd, Közösségi Ház, 19.00-21.00 (20, 10 km), 19.00-22.00 (5 km).<br /><strong>Cél</strong> ugyanott.<br /><strong>Nevezési díjak:</strong> 1200, 1000 ill. 800 Ft/fő)<br /><strong>Információ:</strong> Balog Árpád tel.: (30) 316-1891; e-mail: <a href="mailto:batenkes@freemail.hu">batenkes@freemail.hu</a></p><p><span style="color: #0000ff;"><strong><a href="https://tturak.hu/hikeOccasion/6600/details" target="_blank" rel="noopener noreferrer" style="color: #0000ff;">Részletek</a></strong></span></p>
LOCATION:7800 Siklós-Máriagyűd, Baranya, Magyar
X-ACCESS:1
X-MODIFIED:20240613T202711Z
X-HITS:646
X-URL:
X-COLOR:
END:VEVENT
END:VCALENDAR