BEGIN:VCALENDAR
VERSION:2.0
PRODID:DPCALENDAR
CALSCALE:GREGORIAN
X-WR-TIMEZONE:UTC
BEGIN:VEVENT
DTSTART;VALUE=DATE:20230204
DTEND;VALUE=DATE:20230205
UID:2965f47baff8ece4b8611012ee07ed3f
SUMMARY:„Balázs napi tekergés”
DTSTAMP:20221219T195938Z
DESCRIPTION:Útvonal: Komló (autóbuszpályaudvar) - volt Béta akna - Kincskereső-forrás - 25-ös tó - Pécs-SomogyTáv: 13 km, szintemelkedés: 345 mTalálkozás: Pécsett, a távolsági autóbusz-pályaudvaron 08:45-kor (busz járatszám: 5610/29, indul 09:00 órakor a 7-es megállóból).Túravezető: Nagy Balázs /POEÜ/Telefon: +36/20/796-5582
X-ALT-DESC;FMTTYPE=text/html:<p><strong>Útvonal:</strong> Komló (autóbuszpályaudvar) - volt Béta akna - Kincskereső-forrás - 25-ös tó - Pécs-Somogy<br /><strong>Táv:</strong> 13 km, szintemelkedés: 345 m<br /><strong>Találkozás:</strong> Pécsett, a távolsági autóbusz-pályaudvaron 08:45-kor (busz járatszám: 5610/29, indul 09:00 órakor a 7-es megállóból).<br /><strong>Túravezető:</strong> Nagy Balázs /POEÜ/<br /><strong>Telefon:</strong> +36/20/796-5582</p>
LOCATION:Komló, Baranya, Magyar
GEO:46.18953000;18.26532000
X-ACCESS:1
X-MODIFIED:20230129T194845Z
X-HITS:888
X-URL:
X-COLOR:
END:VEVENT
END:VCALENDAR