BEGIN:VCALENDAR
VERSION:2.0
PRODID:DPCALENDAR
CALSCALE:GREGORIAN
X-WR-TIMEZONE:UTC
BEGIN:VEVENT
DTSTART;VALUE=DATE:20260430
DTEND;VALUE=DATE:20260501
UID:d6ba2bd6d13211808fe7297064df077d
SUMMARY:135 éves a Mecsek Egyesület
DTSTAMP:20251225T173226Z
DESCRIPTION:135 éves a Mecsek EgyesületMeteorológiai Házikó – ünnepélyes átadó – Pécs, Széchenyi térKoszorúzás, megemlékezés a Pécsi Központi Temetőben\NTovábbi információ az egyesület titkárától, Tőzsér-Márkus Emíliától kapható a mecsekegyesulet@gmail.com e-mail címen vagy a 06/72/508-200-as telefonszámon munkanapokon 9.00 – 13.00 óra között.
X-ALT-DESC;FMTTYPE=text/html:<p><span style="color: #003300;"><strong>135 éves a Mecsek Egyesület</strong></span><br />Meteorológiai Házikó – ünnepélyes átadó – Pécs, Széchenyi tér<br />Koszorúzás, megemlékezés a Pécsi Központi Temetőben</p><p><strong>További információ</strong> az egyesület titkárától, Tőzsér-Márkus Emíliától kapható a mecsekegyesulet@gmail.com e-mail címen vagy a 06/72/508-200-as telefonszámon munkanapokon 9.00 – 13.00 óra között.</p>
X-ACCESS:1
X-MODIFIED:20260330T091010Z
X-HITS:18
X-URL:
X-COLOR:
END:VEVENT
END:VCALENDAR