BEGIN:VCALENDAR
VERSION:2.0
PRODID:DPCALENDAR
CALSCALE:GREGORIAN
X-WR-TIMEZONE:UTC
BEGIN:VEVENT
DTSTART;VALUE=DATE:20250503
DTEND;VALUE=DATE:20250504
UID:606d0e7cff414a0b17ebdeda87a5f365
SUMMARY:"Sólyom László Emlékút" avatása
DTSTAMP:20241231T154314Z
DESCRIPTION:"Sólyom László Emlékút" avatása\NSólyom László, volt köztársasági elnök tevékenyen részt vállalt a 2000-es évek első felében a Zengőre tervezett NATO katonai lokátor megépítésének a megakadályozásában, személyesen is felgyalogolt a Zengőre a környezetvédőkkel. Ez alkalomból Csizmadia László, a Civil Szervezetek a Zengőért Mozgalom alapító tagja a köztársasági elnököt és feleségét a zöldek nevében egy-egy jelvény és vándorbot átadásával "tiszteletbeli Zengő őrré" fogadta. Mindezek emlékére a Neuglashütte Német Nemzetiségi Kultúrfalu Egyesület, a Mecsekerdő Zrt., a Duna-Dráva Nemzeti Park Igazgatóság és a Hosszúhetényi Turista Egyesület egy Sólyom Lászlóról elnevezett emlékutat alakított ki, mely a sárga sáv jelzésű turistaúton vezet a Zengő csúcstól a Cigány-hegyi kilátóig. \NRendező: Hosszúhetényi Turista EgyesületÚtvonal: Hosszúhetény – Zengő – Püspökszentlászló – Cigány-hegyi kilátó – Pusztabánya – HosszúhetényTáv: 17,5 km, szintemelkedés: 645 m.Indulás: 11.00-kor Hosszúhetényből, a Polgármesteri Hivatal elől. A helyszínt megközelíteni gépjárművel, illetve autóbusszal lehet (ez utóbbival Pécsről a távolsági autóbusz-állomás 11-es kocsiállásáról 10.30-kor induló 5620 sz. buszjárattal). A Zengőn kb. 12.30-kor avatóbeszéd lesz, majd délután a Cigány-hegyi kilátónál 15.30-kor kezdődik az emlékút táblaavató ünnepsége. A túra 18 óra körül ér véget Hosszúhetényben.\NAz útvonal részletesen: Hetényből a sárga, majd később a hozzá csatlakozó kék háromszög jelzésen 3.8 km-es közel 410 m szintemelkedéssel érkeznénk meg a Zengőre kb. 12.30-kor. Itt beszédet mond Landi Balázs, Sólyom László volt köztársasági elnök titkára. A beszéd után 13.00-kor a sárga sáv jelzésen az emlékúton haladva a Zarándok-kút kereszteződésében megpihenve ereszkedünk majd le Püspökszentlászlóra. Innen két pihenőt beiktatva Hárs- és Miske-tetőt érintve érkezünk meg az emlékút másik végpontjára. A Cigány-hegyi kilátónál a frissítés és a 15.30-kor kezdődő emlékút táblaavató ünnepsége után szervezetten vezetjük vissza a program résztvevőit, Pusztabányát érintve a túra kiindulási pontjához, Hosszúheténybe. A program 18.00 óra körül fejeződik be.\NA TÚRA REGISZTRÁCIÓ KÖTELES!Regisztrálni ezen a linken lehet.\NTúravezető: Schóber József, a Baranya Megyei Természetbarát Szövetség elnökeTovábbi információ: Takács Ferenc, tel.: (20) 805-3405; e-mail: 17taki@gmail.com\NForrás
X-ALT-DESC;FMTTYPE=text/html:<p><span style="color: #003300;"><strong>"Sólyom László Emlékút" avatása</strong></span></p><p style="text-align: justify;"><strong>Sólyom László, volt köztársasági elnök tevékenyen részt vállalt a 2000-es évek első felében a Zengőre tervezett NATO katonai lokátor megépítésének a megakadályozásában, személyesen is felgyalogolt a Zengőre a környezetvédőkkel. Ez alkalomból Csizmadia László, a Civil Szervezetek a Zengőért Mozgalom alapító tagja a köztársasági elnököt és feleségét a zöldek nevében egy-egy jelvény és vándorbot átadásával "tiszteletbeli Zengő őrré" fogadta. Mindezek emlékére a Neuglashütte Német Nemzetiségi Kultúrfalu Egyesület, a Mecsekerdő Zrt., a Duna-Dráva Nemzeti Park Igazgatóság és a Hosszúhetényi Turista Egyesület egy Sólyom Lászlóról elnevezett emlékutat alakított ki, mely a sárga sáv jelzésű turistaúton vezet a Zengő csúcstól a Cigány-hegyi kilátóig.&nbsp;</strong></p><p style="text-align: justify;"><strong>Rendező:</strong> Hosszúhetényi Turista Egyesület<br /><strong>Útvonal:</strong> Hosszúhetény – Zengő – Püspökszentlászló – Cigány-hegyi kilátó – Pusztabánya – Hosszúhetény<br /><strong>Táv:</strong> 17,5 km, szintemelkedés: 645 m.<br /><strong>Indulás:</strong> 11.00-kor Hosszúhetényből, a Polgármesteri Hivatal elől. A helyszínt megközelíteni gépjárművel, illetve autóbusszal lehet (ez utóbbival Pécsről a távolsági autóbusz-állomás 11-es kocsiállásáról 10.30-kor induló 5620 sz. buszjárattal). A Zengőn kb. 12.30-kor avatóbeszéd lesz, majd délután a Cigány-hegyi kilátónál 15.30-kor kezdődik az emlékút táblaavató ünnepsége. A túra 18 óra körül ér véget Hosszúhetényben.</p><p style="text-align: justify;"><strong>Az útvonal részletesen:</strong> Hetényből a sárga, majd később a hozzá csatlakozó kék háromszög jelzésen 3.8 km-es közel 410 m szintemelkedéssel érkeznénk meg a Zengőre kb. 12.30-kor. Itt beszédet mond Landi Balázs, Sólyom László volt köztársasági elnök titkára. A beszéd után 13.00-kor a sárga sáv jelzésen az emlékúton haladva a Zarándok-kút kereszteződésében megpihenve ereszkedünk majd le Püspökszentlászlóra. Innen két pihenőt beiktatva Hárs- és Miske-tetőt érintve érkezünk meg az emlékút másik végpontjára. A Cigány-hegyi kilátónál a frissítés és a 15.30-kor kezdődő emlékút táblaavató ünnepsége után szervezetten vezetjük vissza a program résztvevőit, Pusztabányát érintve a túra kiindulási pontjához, Hosszúheténybe. A program 18.00 óra körül fejeződik be.</p><p><strong>A TÚRA REGISZTRÁCIÓ KÖTELES!</strong><br /><span style="color: #0000ff;"><strong><a href="https://forms.gle/z3CWevBK4KyRqA1aA" target="_blank" rel="noopener noreferrer" style="color: #0000ff;">Regisztrálni ezen a linken lehet.</a></strong></span></p><p><strong>Túravezető:</strong> Schóber József, a Baranya Megyei Természetbarát Szövetség elnöke<br /><strong>További információ:</strong> Takács Ferenc, tel.: (20) 805-3405; e-mail: <a href="mailto:17taki@gmail.com">17taki@gmail.com</a></p><p><span style="color: #0000ff;"><strong><a href="https://www.facebook.com/events/1694538974824089" target="_blank" rel="noopener noreferrer" style="color: #0000ff;">Forrás</a></strong></span></p>
LOCATION:Hosszúhetény, Baranya, Magyarország
GEO:46.16305000;18.35197000
X-ACCESS:1
X-MODIFIED:20250413T170255Z
X-HITS:621
X-URL:
X-COLOR:
END:VEVENT
END:VCALENDAR